BEGIN:VCALENDAR
METHOD:PUBLISH
PRODID:-//Weblication CMS
VERSION:2.0
BEGIN:VEVENT
SUMMARY:Lohnt sich E-Mobilität auch für Sie?
DTSTART:20210821T100000
DTEND:20210821T160000
DESCRIPTION:Stellen Sie uns Ihre Fragen am Informationsanlass der Genossenschaft SpiezSolar anlässlich des Gewerbe-Events «Usestuehle» in Spiez. Samstag, 21. August 2021, 10 – 16 Uhr, beim Info-Center, Bahnhof Spiez.
LOCATION:Spiez
UID:https://www.autohaus-vonkaenel.ch/de/events/termine/Event-Solar-Spiez.php
URL:https://www.autohaus-vonkaenel.ch/de/events/termine/Event-Solar-Spiez.php
END:VEVENT
END:VCALENDAR