BEGIN:VCALENDAR
METHOD:PUBLISH
PRODID:-//Weblication CMS
VERSION:2.0
BEGIN:VEVENT
SUMMARY:Info-Morgen für die Mitarbeitenden
DTSTART:20220906T080000
DTEND:20220906T120000
DESCRIPTION:Der 33. Info-Morgen – gespickt mit sehr viel Abwechslung. 
LOCATION:Frutigen
UID:https://www.autohaus-vonkaenel.ch/de/events/termine/Info-Morgen-fuer-die-Mitarbeitenden.php
URL:https://www.autohaus-vonkaenel.ch/de/events/termine/Info-Morgen-fuer-die-Mitarbeitenden.php
END:VEVENT
END:VCALENDAR